BEGIN:VCALENDAR
VERSION:2.0
PRODID:-//wp-events-plugin.com//7.2.3.1//EN
TZID:Europe/London
X-WR-TIMEZONE:Europe/London
BEGIN:VEVENT
UID:108@visitribblevalley.co.uk
DTSTART;TZID=Europe/London:20250815T120000
DTEND;TZID=Europe/London:20250815T150000
DTSTAMP:20250807T111723Z
URL:https://www.visitribblevalley.co.uk/events/ceramics-workshop-with-kim-
 graham/
SUMMARY:Ceramics Workshop with Kim Graham
DESCRIPTION:\nTo help celebrate our latest exhibition Clay North Now we wil
 l be joined by ceramicist Kim Graham from the Northern Potters Association
  on Friday 15th August as she hosts a drop in ceramics workshop for us\, w
 here you can create a pinch pot.\n\n\nThe FREE workshop is drop in between
  12 and 3 and is open to all. No booking required.\n\n\nPlease note all ch
 ildren must be accompanied by an adult\n
ATTACH;FMTTYPE=image/jpeg:https://www.visitribblevalley.co.uk/wp-content/u
 ploads/2025/08/NorthernPotters_CeramicsSession_socialmedia.png
CATEGORIES:Country Show,Food Festival,Heritage,Live Music,open
 garden,Steam Fairs
LOCATION:Platform Gallery And Visitor Information Centre\, Station Road\, C
 litheroe\, Lancashire\, BB72JT\, North West\, United Kingdom
X-APPLE-STRUCTURED-LOCATION;VALUE=URI;X-ADDRESS=Station Road\, Clitheroe\, 
 Lancashire\, BB72JT\, North West\, United Kingdom;X-APPLE-RADIUS=100;X-TIT
 LE=Platform Gallery And Visitor Information Centre:geo:0,0
END:VEVENT
BEGIN:VTIMEZONE
TZID:Europe/London
X-LIC-LOCATION:Europe/London
BEGIN:DAYLIGHT
DTSTART:20250330T020000
TZOFFSETFROM:+0000
TZOFFSETTO:+0100
TZNAME:BST
END:DAYLIGHT
END:VTIMEZONE
END:VCALENDAR