BEGIN:VCALENDAR
VERSION:2.0
PRODID:-//wp-events-plugin.com//7.2.3.1//EN
TZID:Europe/London
X-WR-TIMEZONE:Europe/London
BEGIN:VEVENT
UID:1399@visitribblevalley.co.uk
DTSTART;TZID=Europe/London:20260515T110000
DTEND;TZID=Europe/London:20260516T230000
DTSTAMP:20260310T111551Z
URL:https://www.visitribblevalley.co.uk/events/clitheroe-beer-festival/
SUMMARY:Clitheroe Beer Festival
DESCRIPTION:The 17th Clitheroe Beer Festival returns to the Assembly Hall o
 f St. Michael and St. John’s\, Clitheroe (BB7 1AD) on May 15–1
 6\, 2026\, from 11 AM to 11 PM each day. Enjoy over 70 beers and c
 iders\, delicious street food\, and live music—Caroline on Friday night 
 and Drive on Saturday. Don’t miss the special appearance by the Thwaites
  Shire Horses and two great days of flavour\, fun\, and community spirit!
ATTACH;FMTTYPE=image/jpeg:https://www.visitribblevalley.co.uk/wp-content/u
 ploads/2026/03/1813.jpg
END:VEVENT
BEGIN:VTIMEZONE
TZID:Europe/London
X-LIC-LOCATION:Europe/London
BEGIN:DAYLIGHT
DTSTART:20260329T020000
TZOFFSETFROM:+0000
TZOFFSETTO:+0100
TZNAME:BST
END:DAYLIGHT
END:VTIMEZONE
END:VCALENDAR