BEGIN:VCALENDAR
VERSION:2.0
PRODID:-//wp-events-plugin.com//7.2.3.1//EN
TZID:Europe/London
X-WR-TIMEZONE:Europe/London
BEGIN:VEVENT
UID:35@visitribblevalley.co.uk
DTSTART;TZID=Europe/London:20250419T100000
DTEND;TZID=Europe/London:20250420T000000
DTSTAMP:20250312T113517Z
URL:https://www.visitribblevalley.co.uk/events/easter-breakfast/
SUMMARY:Easter breakfast
DESCRIPTION:&nbsp\;
CATEGORIES:open garden
LOCATION:Foxfields Country Hotel\, Whalley Road \, Billington\, Lancashire 
 \, Bb7 9hy\, Ribble valley\, United Kingdom
X-APPLE-STRUCTURED-LOCATION;VALUE=URI;X-ADDRESS=Whalley Road \, Billington\
 , Lancashire \, Bb7 9hy\, Ribble valley\, United Kingdom;X-APPLE-RADIUS=10
 0;X-TITLE=Foxfields Country Hotel:geo:0,0
END:VEVENT
BEGIN:VTIMEZONE
TZID:Europe/London
X-LIC-LOCATION:Europe/London
BEGIN:DAYLIGHT
DTSTART:20250330T020000
TZOFFSETFROM:+0000
TZOFFSETTO:+0100
TZNAME:BST
END:DAYLIGHT
END:VTIMEZONE
END:VCALENDAR