BEGIN:VCALENDAR
VERSION:2.0
PRODID:-//wp-events-plugin.com//7.2.3.1//EN
TZID:Europe/London
X-WR-TIMEZONE:Europe/London
BEGIN:VEVENT
UID:19@visitribblevalley.co.uk
DTSTART;TZID=Europe/London;VALUE=DATE:20250705
DTEND;TZID=Europe/London;VALUE=DATE:20250706
DTSTAMP:20250131T133015Z
URL:https://www.visitribblevalley.co.uk/events/goosnargh-longridge-show/
SUMMARY:Goosnargh &amp\; Longridge Show
DESCRIPTION:Country Show with fun for all the family. A full schedule of li
 vestock competitions live music children’s activities and more. \n\n A 
 traditional 
ATTACH;FMTTYPE=image/jpeg:https://www.visitribblevalley.co.uk/wp-content/u
 ploads/2025/01/Hodder-Valley-Show-2019-Sarah-Valentine-Photography-30-scal
 ed.jpg
CATEGORIES:Country Show
LOCATION:Longridge\, .\, Longridge \, United Kingdom
X-APPLE-STRUCTURED-LOCATION;VALUE=URI;X-ADDRESS=.\, Longridge \, United Kin
 gdom;X-APPLE-RADIUS=100;X-TITLE=Longridge:geo:0,0
END:VEVENT
BEGIN:VTIMEZONE
TZID:Europe/London
X-LIC-LOCATION:Europe/London
BEGIN:DAYLIGHT
DTSTART:20250330T020000
TZOFFSETFROM:+0000
TZOFFSETTO:+0100
TZNAME:BST
END:DAYLIGHT
END:VTIMEZONE
END:VCALENDAR