BEGIN:VCALENDAR
VERSION:2.0
PRODID:-//wp-events-plugin.com//7.2.3.1//EN
TZID:Europe/London
X-WR-TIMEZONE:Europe/London
BEGIN:VEVENT
UID:25@visitribblevalley.co.uk
DTSTART;TZID=Europe/London;VALUE=DATE:20250913
DTEND;TZID=Europe/London;VALUE=DATE:20250914
DTSTAMP:20250131T144102Z
URL:https://www.visitribblevalley.co.uk/events/hodder-valley-show/
SUMMARY:Hodder Valley Show
DESCRIPTION:A vast showcase of cattle breeds to sheep shearing and gardenin
 g to vintage machinery. A treasure trove for local crafts and gifts.     
  \n\n&nbsp\;
ATTACH;FMTTYPE=image/jpeg:https://www.visitribblevalley.co.uk/wp-content/u
 ploads/2025/01/Hodder-Valley-Show-2019-Sarah-Valentine-Photography-1-scale
 d.jpg
LOCATION:Newton\, Hallgate Hill \, Bowland \, BB73AB\, United Kingdom
X-APPLE-STRUCTURED-LOCATION;VALUE=URI;X-ADDRESS=Hallgate Hill \, Bowland \,
  BB73AB\, United Kingdom;X-APPLE-RADIUS=100;X-TITLE=Newton:geo:0,0
END:VEVENT
BEGIN:VTIMEZONE
TZID:Europe/London
X-LIC-LOCATION:Europe/London
BEGIN:DAYLIGHT
DTSTART:20250330T020000
TZOFFSETFROM:+0000
TZOFFSETTO:+0100
TZNAME:BST
END:DAYLIGHT
END:VTIMEZONE
END:VCALENDAR