BEGIN:VCALENDAR
VERSION:2.0
PRODID:-//wp-events-plugin.com//7.2.3.1//EN
TZID:Europe/London
X-WR-TIMEZONE:Europe/London
BEGIN:VEVENT
UID:31@visitribblevalley.co.uk
DTSTART;TZID=Europe/London:20250329T190000
DTEND;TZID=Europe/London:20250329T220000
DTSTAMP:20250210T095649Z
URL:https://www.visitribblevalley.co.uk/events/music-event/
SUMMARY:Music event
DESCRIPTION:Concert with internationally known musicians-Snake Davis on Sax
  and Gareth Moulton on guitar and vocals
ATTACH;FMTTYPE=image/jpeg:https://www.visitribblevalley.co.uk/wp-content/u
 ploads/2025/02/SNAKE-DAVIS.png
CATEGORIES:Live Music
LOCATION:https://www.grindletonpavilion.org.uk/
END:VEVENT
BEGIN:VTIMEZONE
TZID:Europe/London
X-LIC-LOCATION:Europe/London
BEGIN:STANDARD
DTSTART:20241027T010000
TZOFFSETFROM:+0100
TZOFFSETTO:+0000
TZNAME:GMT
END:STANDARD
END:VTIMEZONE
END:VCALENDAR