BEGIN:VCALENDAR
VERSION:2.0
PRODID:-//wp-events-plugin.com//7.2.3.1//EN
TZID:Europe/London
X-WR-TIMEZONE:Europe/London
BEGIN:VEVENT
UID:122@visitribblevalley.co.uk
DTSTART;TZID=Europe/London;VALUE=DATE:20250926
DTEND;TZID=Europe/London;VALUE=DATE:20250929
DTSTAMP:20250828T072824Z
URL:https://www.visitribblevalley.co.uk/events/ribble-valley-scooter-rally
 -music-festival/
SUMMARY:Ribble Valley Scooter Rally &amp\; Music Festival
DESCRIPTION:A weekend of hundreds of amazing vintage scooters\, 60’s Mod 
 styles\, prizes\, free music from R&amp\;B to Ska - 70 gigs in over 20 ven
 ues\, Saturday trade stalls and a big Saturday ride-in! Ave it!\n\nClither
 oe will be dancing to Mod music from Friday to Sunday. On Saturday a proce
 ssion of hundreds of vintage scooters will splutter their way from Ribches
 ter via Whalley to Clitheroe for a spectacular "ride-in" at about  1.30pm
 .\n\nWhy not join in\, put on your tailor-made suit and skinny tie\, op-ar
 t Mary Quant mini dress or even a Parka and revisit the 60's styles!\n\n
 Visit our FaceBook page for more info\, map and full gig line-up.
ATTACH;FMTTYPE=image/jpeg:https://www.visitribblevalley.co.uk/wp-content/u
 ploads/2025/08/RV-Scooter-Rally-route-map.png
CATEGORIES:Live Music
LOCATION:Clitheroe\, Castle Street\, Clitheroe\, Lancashire\, BB7 2BT\, Uni
 ted Kingdom
X-APPLE-STRUCTURED-LOCATION;VALUE=URI;X-ADDRESS=Castle Street\, Clitheroe\,
  Lancashire\, BB7 2BT\, United Kingdom;X-APPLE-RADIUS=100;X-TITLE=Clithero
 e:geo:0,0
END:VEVENT
BEGIN:VTIMEZONE
TZID:Europe/London
X-LIC-LOCATION:Europe/London
BEGIN:DAYLIGHT
DTSTART:20250330T020000
TZOFFSETFROM:+0000
TZOFFSETTO:+0100
TZNAME:BST
END:DAYLIGHT
END:VTIMEZONE
END:VCALENDAR