BEGIN:VCALENDAR
VERSION:2.0
PRODID:-//wp-events-plugin.com//7.2.3.1//EN
TZID:Europe/London
X-WR-TIMEZONE:Europe/London
BEGIN:VEVENT
UID:1393@visitribblevalley.co.uk
DTSTART;TZID=Europe/London:20260724T130000
DTEND;TZID=Europe/London:20260726T000000
DTSTAMP:20260120T085317Z
URL:https://www.visitribblevalley.co.uk/events/seekout-festival/
SUMMARY:SeekOut Festival
DESCRIPTION:We’re delighted to announce that SeekOut Festival returns for
  2026.\n\nAfter three wonderful years\, local support has helped this fest
 ival grow into something truly special and we can’t wait to gather again
  for another magical summer weekend.\n\nNestled in the stunning woodland o
 f Gisburn Forest\, SeekOut is a lovingly curated micro-festival\, limited 
 to fewer than 500 people\, creating an intimate and welcoming atmosphere w
 here everyone feels at home. The festival offers an exceptional mix of ecl
 ectic\, high-quality live music\, including national and local artists\, a
 longside interactive art\, theatre\, wellbeing experiences and creative ac
 tivities for all ages.\n\nProudly created and run by loyal volunteers\, Se
 ekOut is a safe\, relaxed and family-friendly environment. Children are fr
 ee to explore\, play and laugh\, roasting marshmallows around the fire pit
 \, making new friends and enjoying the simple joy of being outdoors.\n\nSu
 rrounded by the natural beauty of the forest\, and open space\, SeekOut of
 fers time to slow down\, reconnect and feel free. Whether you’re dancing
  with friends\, relaxing in the wellbeing spaces\, or simply soaking up th
 e peaceful setting\, the sense of community and connection is at the heart
  of everything. Perfect for first-time groovers and seasoned seekers alike
 \, SeekOut is a weekend of creativity\, music and shared moments of rememb
 ering the now.\n\nTickets available from the Grand Venue website\n\nEarly 
 bird tickets are SOLD OUT.\nDue to high demand\, we encourage you to act q
 uickly to secure Tier 1 tickets. Once this tier is sold out\, ticket price
 s will increase to the full general admission price.\n\nThis event is mana
 ged by SeekOut Festival. Please send enquiries about the event to info@se
 ekoutfestival.co.uk\n\nA CAR PARKING TICKET MUST BE PURCHASED IF BRINGING 
 A CAR\n\nwhat3words car park location: arrives.liberated.revamped\n\nGoogl
 e Map Pin\n\nThank you and see you in the forest!\n\nSEEKOUT Festival is s
 upported by The Grand\, Forestry England and Creative Lancashire.
ATTACH;FMTTYPE=image/jpeg:https://www.visitribblevalley.co.uk/wp-content/u
 ploads/2026/01/2000-max-Banner-resized-3000x1072-1.png
CATEGORIES:Arts &amp; Crafts,Family,Live Music
LOCATION:https://maps.app.goo.gl/kUqRCArv91tnJ5RCA
END:VEVENT
BEGIN:VTIMEZONE
TZID:Europe/London
X-LIC-LOCATION:Europe/London
BEGIN:DAYLIGHT
DTSTART:20260329T020000
TZOFFSETFROM:+0000
TZOFFSETTO:+0100
TZNAME:BST
END:DAYLIGHT
END:VTIMEZONE
END:VCALENDAR