BEGIN:VCALENDAR
VERSION:2.0
PRODID:-//wp-events-plugin.com//7.2.3.1//EN
TZID:Europe/London
X-WR-TIMEZONE:Europe/London
BEGIN:VEVENT
UID:18@visitribblevalley.co.uk
DTSTART;TZID=Europe/London;VALUE=DATE:20250607
DTEND;TZID=Europe/London;VALUE=DATE:20250609
DTSTAMP:20250131T130824Z
URL:https://www.visitribblevalley.co.uk/events/slaidburn-steam-vintage-veh
 icle-display/
SUMMARY:Slaidburn Steam &amp\; Vintage Vehicle Display
DESCRIPTION:An opportunity to view an array of vintage vehicles and other f
 amily attractions in the picturesque village of Slaidburn. \n\n\n\n \n\n
  \n\n 
ATTACH;FMTTYPE=image/jpeg:https://www.visitribblevalley.co.uk/wp-content/u
 ploads/2025/01/DSC_0061-scaled.jpg
CATEGORIES:Steam Fairs
LOCATION:Slaidburn\, .\, Slaidburn \, United Kingdom
X-APPLE-STRUCTURED-LOCATION;VALUE=URI;X-ADDRESS=.\, Slaidburn \, United Kin
 gdom;X-APPLE-RADIUS=100;X-TITLE=Slaidburn:geo:0,0
END:VEVENT
BEGIN:VTIMEZONE
TZID:Europe/London
X-LIC-LOCATION:Europe/London
BEGIN:DAYLIGHT
DTSTART:20250330T020000
TZOFFSETFROM:+0000
TZOFFSETTO:+0100
TZNAME:BST
END:DAYLIGHT
END:VTIMEZONE
END:VCALENDAR