BEGIN:VCALENDAR
VERSION:2.0
PRODID:-//wp-events-plugin.com//7.2.3.1//EN
TZID:Europe/London
X-WR-TIMEZONE:Europe/London
BEGIN:VEVENT
UID:159@visitribblevalley.co.uk
DTSTART;TZID=Europe/London:20251026T000000
DTEND;TZID=Europe/London:20251026T000000
DTSTAMP:20250916T113631Z
URL:https://www.visitribblevalley.co.uk/events/valpolicella-wine-a-very-sp
 ecial-tasting-experience/
SUMMARY:Valpolicella Wine ~ A Very Special Tasting Experience
DESCRIPTION:Sunday 26th October  - 3pm -8pm - Valpolicella Wine ~ A Very S
 pecial Experience\n\n£95pp*\n\n5 -course dinner and tasting 8 wines inclu
 ding  - Valpolicella - Valpolicella Superiore\, Valpolicella Ripasso\, Am
 arone della Valpolicella and Recioto della Valpolicella matched with tradi
 tional dishes from the province of Verona\, in the Veneto region of Northe
 rn Italy\, east of Lake Garda.\n\n*Any additional drinks which are not par
 t of the wine tasting are not included\n\n&nbsp\;\n\nEvent Description:\n\
 n&nbsp\;\n\nThe name itself\, Valpolicella\,  is thought to mean ‘valle
 y of many cellars’ \, ‘land of many fruits’ or ‘land of wonders’
  \, referring to the region’s rich viticultural history and fertile land
 . And so the scene is set for our fine wine story…\n\n&nbsp\;\n\nValpoli
 cella\, Valpolicella Superiore\, Valpolicella Ripasso\, Amarone della Valp
 olicella and Recioto della Valpolicella. These wines are all made with the
  same grapes (Corvina\, Corvinone\, Rondinella and Molinara) but the wine-
 making techniques is what differentiates them\n\nTwo producers - Tenuta Ca
 saletti Veneto www.villacanestrari.com and Secondo Marco Veneto www.second
 omarco.it\n\n. Same wines. Same grapes. Same heritage. Same terroir. Yet\,
  each bottle tells a different story. This unique tasting experience invit
 es you to explore how the philosophy\, methods\, and personality of a wine
 maker can shape the expression of the same grape in remarkably distinct wa
 ys. Compare\, contrast\, and discover how passion and craft transform natu
 re into art.\n\nLimited - 30 places available\n\nTo reserve your table ple
 ase book online at www.lalocanda.co.uk \n\n&nbsp\;
ATTACH;FMTTYPE=image/jpeg:https://www.visitribblevalley.co.uk/wp-content/u
 ploads/2025/09/Valpolicella-Wine-Tasting-La-Locanda-Gisburn-2025.jpg.jpg
CATEGORIES:Food Festival
LOCATION:La Locanda\, Main Street\, Gisburn\, Lancashire\, BB7 4HH\, Ribble
  Valley\, United Kingdom
X-APPLE-STRUCTURED-LOCATION;VALUE=URI;X-ADDRESS=Main Street\, Gisburn\, Lan
 cashire\, BB7 4HH\, Ribble Valley\, United Kingdom;X-APPLE-RADIUS=100;X-TI
 TLE=La Locanda:geo:0,0
END:VEVENT
BEGIN:VTIMEZONE
TZID:Europe/London
X-LIC-LOCATION:Europe/London
BEGIN:DAYLIGHT
DTSTART:20250330T020000
TZOFFSETFROM:+0000
TZOFFSETTO:+0100
TZNAME:BST
END:DAYLIGHT
END:VTIMEZONE
END:VCALENDAR